BEGIN:VCALENDAR
VERSION:2.0
PRODID:-//NationSwell: Events - ECPv6.15.17.1//NONSGML v1.0//EN
CALSCALE:GREGORIAN
METHOD:PUBLISH
X-WR-CALNAME:NationSwell: Events
X-ORIGINAL-URL:https://events.nationswell.com
X-WR-CALDESC:Events for NationSwell: Events
REFRESH-INTERVAL;VALUE=DURATION:PT1H
X-Robots-Tag:noindex
X-PUBLISHED-TTL:PT1H
BEGIN:VTIMEZONE
TZID:America/New_York
BEGIN:DAYLIGHT
TZOFFSETFROM:-0500
TZOFFSETTO:-0400
TZNAME:EDT
DTSTART:20210314T070000
END:DAYLIGHT
BEGIN:STANDARD
TZOFFSETFROM:-0400
TZOFFSETTO:-0500
TZNAME:EST
DTSTART:20211107T060000
END:STANDARD
BEGIN:DAYLIGHT
TZOFFSETFROM:-0500
TZOFFSETTO:-0400
TZNAME:EDT
DTSTART:20220313T070000
END:DAYLIGHT
BEGIN:STANDARD
TZOFFSETFROM:-0400
TZOFFSETTO:-0500
TZNAME:EST
DTSTART:20221106T060000
END:STANDARD
BEGIN:DAYLIGHT
TZOFFSETFROM:-0500
TZOFFSETTO:-0400
TZNAME:EDT
DTSTART:20230312T070000
END:DAYLIGHT
BEGIN:STANDARD
TZOFFSETFROM:-0400
TZOFFSETTO:-0500
TZNAME:EST
DTSTART:20231105T060000
END:STANDARD
END:VTIMEZONE
BEGIN:VEVENT
DTSTART;TZID=America/New_York:20220616T180000
DTEND;TZID=America/New_York:20220616T210000
DTSTAMP:20260419T190812
CREATED:20220605T204907Z
LAST-MODIFIED:20220723T202111Z
UID:974-1655402400-1655413200@events.nationswell.com
SUMMARY:Washington DC Social | How We’re Meeting the Current Moment\, Hosted by John Hecklinger
DESCRIPTION:Washington DC Social | How We’re Meeting the Current Moment\, Hosted by John Hecklinger\n			\n				\n				\n				\n				\n				Thursday\, June 16\, 2022 @ 6:00 pm – 9:00 pm EDT \n			\n			\n				\n				\n				\n				\n				\n				\n				\n				\n				\n				\n			\n			\n				\n				\n				\n				\n			\n				\n				\n				\n				\n				\n				\n				\n				\n				\n				\n				About\n			\n				\n				\n				\n				\n				Two years of unprecedented isolation and uncertainty have made our communities more atomized than ever before. In the spirit of beginning the work of bridging those divides that the pandemic deepened\, we’re excited to be able to provide an in-person space for our Washington\, D.C.\, members to safely mingle to discuss the major shifts we’ve seen in our work and social lives over the past months and years. \nJoin us at this in-person social mixer hosted by NationSwell Council member John Hecklinger\, the president and CEO of the Global Fund for Children. This event is a wonderful opportunity to connect with other Council members and discuss the changes you’ve seen in your businesses\, relationships\, and personal lives as of late\, as well as the strategies you’ve developed to respond to this singular moment. \nIn the spirit of extending community\, guests are welcome! If you know any great folks who’d add to\, or gain from our gathering\, or who might be interested in learning more about the Council\, please have them RSVP to join. RSVPs and guest invites are not transferable. \n			\n			\n				\n				\n				\n				\n			\n				\n				\n			\n				\n				\n				\n				\n				\n				\n				\n				\n				\n				\n				\n				\n				\n				\n				\n				\n				\n				COVID-19 In-Person Policy\n			\n				\n				\n				\n				\n				The health and safety of our NationSwell members\, staff\, and community is incredibly important to us. In order to keep everyone safe\, we require proof of full vaccination from everyone in attendance at the event. Fully vaccinated is defined as at least 14 days after receiving the final vaccine in a one- or two-shot protocol with a vaccine approved by the FDA or WHO (including emergency use authorization). We also encourage all attendees\, presenters\, and staff to wear a mask when in the event space and not actively eating or drinking \nFor more information\, you can view our Health and Safety Policy here. \n			\n			\n				\n				\n				\n				\n			\n				\n				\n			\n				\n				\n				\n				\n				\n				\n				\n				\n				\n				\n				\n				\n				\n				\n				\n				\n				\n				See who’s coming…\n			\n			\n				\n				\n				\n				\n			\n				\n				\n				\n				\n				\n				\n				\n				\n				\n				\n				Alina Liao\nZenit \nFounder\, Zenit \n			\n			\n				\n				\n				\n				\n				\n				\n				\n				\n				\n				Colin Steele\nNoblis \nSenior Project Analyst \n			\n			\n				\n				\n				\n				\n				\n				\n				\n				\n				\n				Dan Vogel\nCenter for Public Impact\, BCG Foundation \nDirector \n			\n			\n				\n				\n				\n				\n				\n				\n				\n				\n				\n				Erin Essenmacher\nNACD \nPresident & Chief Strategy Officer \n			\n			\n				\n				\n				\n				\n			\n				\n				\n				\n				\n				\n				\n				\n				\n				\n				\n				Howard Pyle\nExperience Futures \nSVP Customer Design Experience \n			\n			\n				\n				\n				\n				\n				\n				\n				\n				\n				\n				Kali Cyrus\nDynamics of Difference PLLC \nPsychiatrist \n			\n			\n				\n				\n				\n				\n				\n				\n				\n				\n				\n				Mary Beth Bruggeman\nThe Mission Continues \nPresident \n			\n			\n				\n				\n				\n				\n				\n				\n				\n				\n				\n				Melvin Brennan\nCitizenLife \nFounder \n			\n			\n				\n				\n				\n				\n			\n				\n				\n				\n				\n				\n				\n				\n				\n				\n				\n				Monique Garcia Rizer\n			\n			\n				\n				\n				\n				\n				\n				\n				\n				\n				\n				Nell Callahan\nFrontwood Strategies \nFounder\, Frontwood Strategies \n			\n			\n				\n				\n				\n				\n				\n				\n				\n				\n				\n				Nimisha Ganesh\nGenUnity \nCoFounder and COO \n			\n			\n				\n				\n				\n				\n				\n				\n				\n				\n				\n				Rosye Cloud\nThe College Promise Campaign \nExecutive Vice President\, The College Promise Campaign \n			\n			\n				\n				\n				\n				\n			\n				\n				\n				\n				\n				\n				\n				\n				\n				\n				\n				Stephanie Holland\nAmerican Chemical Society \nDirector\, Advertising Sales & Marketing\, American Chemical Society \n			\n			\n				\n				\n				\n				\n				\n				\n				\n				\n				\n				Ted Chiodo\nLangleyCyber \nChief Executive Officer and Founder \n			\n			\n				\n				\n				\n				\n				\n				\n				\n				\n				\n				Thaler Pekar\nThaler Pekar & Partners \nCEO\, Thaler Pekar & Partners_CEO\, Thaler Pekar & Partners \n			\n			\n				\n				\n				\n				\n				\n				\n				\n				\n				\n				Tory Clarke\nBridge Partners \nCo-Founder + Partner\, Bridge Partners \n			\n			\n				\n				\n				\n				\n			\n				\n				\n				\n				\n				\n				\n				\n				\n				\n				\n				Tracy Jaffe\nThe Acceleration Project \nCOO \n			\n			\n				\n				\n				\n				\n				\n			\n				\n				\n				\n				\n				\n			\n				\n				\n				\n				\n				\n			\n				\n				\n				\n				\n			\n				\n				\n			\n				\n				\n				\n				\n				\n				\n				\n				\n				\n				\n				\n				\n				\n				RSVP for this Washington DC Social for the NationSwell Council\n			\n				\n				\n				\n				\n				Upcoming Events\n			\n				\n				\n				\n				\n				Check out the Council calendar to learn more about upcoming events. \n			\n			\n				\n				\n				\n				\n			\n				\n				\n				\n				\n				\n				\n				\n				\n				\n				\n				NationSwell’s events and experiences are designed to bring together diverse\, purpose-driven leaders and organizations for learning\, inspiration\, relationship-building\, and societal impact.
URL:https://events.nationswell.com/event/washington-dc-social-how-were-meeting-the-current-moment-hosted-by-john-hecklinger/
LOCATION:Dacha Beer Garden (Shaw)\, 1600 7th Street Northwest\, Washington DC\, DC\, 20001\, United States
CATEGORIES:Council Event,Salon
ATTACH;FMTTYPE=image/jpeg:https://events.nationswell.com/wp-content/uploads/NS_Featured_WashingtonDCSocial.jpg
END:VEVENT
BEGIN:VEVENT
DTSTART;TZID=America/New_York:20220616T180000
DTEND;TZID=America/New_York:20220616T210000
DTSTAMP:20260419T190812
CREATED:20220605T195950Z
LAST-MODIFIED:20220713T172723Z
UID:952-1655402400-1655413200@events.nationswell.com
SUMMARY:Changing the World in Five Steps: A Dinner For Thought Leaders\, Hosted by Idealist
DESCRIPTION:Changing the World in Five Steps: A Dinner For Thought Leaders\, Hosted by Idealist\n			\n				\n				\n				\n				\n				Thursday\, June 16\, 2022 @ 6:00 pm – 9:00 pm EDT \n			\n			\n				\n				\n				\n				\n				\n				\n				\n				\n				\n				\n			\n			\n				\n				\n				\n				\n			\n				\n				\n				\n				\n				\n				\n				\n				\n				\n				\n				About\n			\n				\n				\n				\n				\n				As leaders in impact\, you have dedicated a significant part of yourselves to building a better world. Increasingly people are waking up to the need for a more connected\, just\, and equal society that protects our planet for the long term. How can we as leaders capture the moment – inspiring and driving collective action that includes everyone? \nNationSwell and Idealist invite you to join us for a dinner discussion on how we move our teams\, our networks\, and ourselves from intention to action. \nPlease join Idealist Executive Director\, Ami Dar on June 16th\, at 6:00 pm for a night of thought-provoking conversation with fellow leaders working for a better world. \n			\n			\n				\n				\n				\n				\n			\n				\n				\n			\n				\n				\n				\n				\n				\n				\n				\n				\n				\n				\n				\n				\n				\n				\n				\n				\n				\n				COVID-19 In-Person Policy\n			\n				\n				\n				\n				\n				To ensure the safety of our members\, event guests and team\, we will be limiting all in-person gatherings to 20 people and will require that all event attendees provide proof of at least one vaccination. \nOur full policy and safety procedures are available here. \n			\n			\n				\n				\n				\n				\n			\n				\n				\n			\n				\n				\n				\n				\n				\n				\n				\n				\n				\n				\n				\n				\n				\n				\n				\n				\n				\n				See who’s coming…\n			\n			\n				\n				\n				\n				\n			\n				\n				\n				\n				\n				\n				\n				\n				\n				\n				\n				Allison Wright\nE-School for Girls\, Inc. \nFounder and Executive Director\, E-School for Girls\, Inc. \n			\n			\n				\n				\n				\n				\n				\n				\n				\n				\n				\n				Arsha Cazazian-Clement\nShearman & Sterling LLP \nDirector of Global Real Estate\, Shearman & Sterling LLP \n			\n			\n				\n				\n				\n				\n				\n				\n				\n				\n				\n				Beth Bengtson\nWorking for Women \nCEO\, Working for Women \n			\n			\n				\n				\n				\n				\n				\n				\n				\n				\n				\n				George Tsiatis\nThe Resolution Project \nCEO\, Working for Women \n			\n			\n				\n				\n				\n				\n			\n				\n				\n				\n				\n				\n				\n				\n				\n				\n				\n				Howard Pyle\nExperience Futures \nSVP Customer Design Experience \n			\n			\n				\n				\n				\n				\n				\n				\n				\n				\n				\n				Jason Wisdom\nThe Design Gym \nCo-Founder + Partner \n			\n			\n				\n				\n				\n				\n				\n				\n				\n				\n				\n				John Oppermann\nEarth Day Initiative; Compass \nExecutive Director \n			\n			\n				\n				\n				\n				\n				\n				\n				\n				\n				\n				Katie Hunt-Morr\nNationSwell \nManaging Director \n			\n			\n				\n				\n				\n				\n			\n				\n				\n				\n				\n				\n				\n				\n				\n				\n				\n				Larry Lieberman\nMouse.org \nCEO \n			\n			\n				\n				\n				\n				\n				\n				\n				\n				\n				\n				Michael Pope\nYouth Represent \nInterim Executive Director \n			\n			\n				\n				\n				\n				\n				\n				\n				\n				\n				\n				Mohan Sivaloganathan\nOur Turn \nCEO \n			\n			\n				\n				\n				\n				\n				\n				\n				\n				\n				\n				Peter Markham\nLBI Media\, Inc. \nCEO\, LBI Media\, Inc. \n			\n			\n				\n				\n				\n				\n			\n				\n				\n				\n				\n				\n				\n				\n				\n				\n				\n				Rich Leimsider\nSafe Passage Project \nExecutive Director\, Safe Passage Project \n			\n			\n				\n				\n				\n				\n				\n				\n				\n				\n				\n				Robin Hogen\nTrue North Strategies \nChief Navigator \n			\n			\n				\n				\n				\n				\n				\n				\n				\n				\n				\n				Sarah Haacke Byrd\nWomen Moving Millions \nExecutive Director \n			\n			\n				\n				\n				\n				\n				\n				\n				\n				\n				\n				Sarah Judd Welch\nSharehold \nCo-Founder & CEO \n			\n			\n				\n				\n				\n				\n			\n				\n				\n				\n				\n				\n				\n				\n				\n				\n				\n				Thaler Pekar\nThaler Pekar & Partners \nCEO\, Thaler Pekar & Partners_CEO\, Thaler Pekar & Partners \n			\n			\n				\n				\n				\n				\n				\n				\n				\n				\n				\n				Tory Clarke\nBridge Partners \nCo-Founder + Partner\, Bridge Partners \n			\n			\n				\n				\n				\n				\n				\n				\n				\n				\n				\n				Tracy Jaffe\nThe Acceleration Project \nCOO \n			\n			\n				\n				\n				\n				\n				\n			\n				\n				\n				\n				\n			\n				\n				\n			\n				\n				\n				\n				\n				\n				\n				\n				\n				\n				\n				\n				\n				\n				\n				\n				\n				\n				Upcoming Events\n			\n				\n				\n				\n				\n				Check out the Council calendar to learn more about upcoming events. \n			\n			\n				\n				\n				\n				\n			\n				\n				\n				\n				\n				\n				\n				\n				\n				\n				\n				NationSwell’s events and experiences are designed to bring together diverse\, purpose-driven leaders and organizations for learning\, inspiration\, relationship-building\, and societal impact.
URL:https://events.nationswell.com/event/changing-the-world-in-five-steps-a-dinner-for-thought-leaders-hosted-by-idealist/
LOCATION:Idealist HQ\, 389 5th Ave 9th Floor\, New York\, NY\, 10016\, United States
CATEGORIES:Council Event,Salon
ATTACH;FMTTYPE=image/jpeg:https://events.nationswell.com/wp-content/uploads/NS_Featured_ChangingTheWorld.jpg
END:VEVENT
BEGIN:VEVENT
DTSTART;TZID=America/New_York:20220615T140000
DTEND;TZID=America/New_York:20220615T150000
DTSTAMP:20260419T190812
CREATED:20220612T194352Z
LAST-MODIFIED:20220723T201918Z
UID:1636-1655301600-1655305200@events.nationswell.com
SUMMARY:Strategic Advisory Group: Creating Equity in the Nonprofit Space
DESCRIPTION:Strategic Advisory Group: Creating Equity in the Nonprofit Space\n			\n				\n				\n				\n				\n				Wednesday\, June 15\, 2022 @ 2:00 pm – 3:00 pm EDT \n			\n			\n				\n				\n				\n				\n				\n				\n				\n				\n				\n				\n			\n			\n				\n				\n				\n				\n			\n				\n				\n				\n				\n				\n				\n				\n				\n				\n				\n				About\n			\n				\n				\n				\n				\n				There has been an explosion of grassroots fundraising and activism over the last few years as communities rise to meet the growing challenges and rapid changes in our country.  But newer nonprofit organizations\, especially those started and run by people of color\, often run into roadblocks as they grow\, clashing with older\, more established support systems as they try to expand their charitable efforts. \nCouncil member Mike Keo\, founder of Make Us Visible is focused on tackling this very issue. Mike’s organization has made huge strides in passing bills to ensure the inclusion of AAPI history in school curricula. But as Make Us Visible expands to more states\, challenges from best practices around governance to logistical issues such as registering as a nonprofit have arisen. \nAt this Strategic Advisory Session\, we will use Mike’s work as a case study on how we might advise and advance early-stage nonprofits creating a roadmap to successful expansion for other organizations like his. \nThis event is for Council members\, especially those with experience running nonprofits and an interest in supporting BIPOC community organizers. \n			\n			\n				\n				\n				\n				\n			\n				\n				\n			\n				\n				\n				\n				\n				\n				\n				\n				\n				\n				\n				\n				\n				\n				\n				\n				\n				\n				OBJECTIVES AND PRIMARY TAKEAWAYS\n			\n			\n				\n				\n				\n				\n			\n				\n				\n				\n				\n				\n				\n				\n				\n				\n				\n				1. Co-create  guidance on serving fast-growing but not yet registered non-profits in ways that are equitable and creative \n2. Understand the challenges of a unique organization that is staying true to its mission of being created by a community\, for a community \n3. Dive deeper and understand the challenges that BIPOC founders face when fundraising \n			\n			\n				\n				\n				\n				\n			\n				\n				\n			\n				\n				\n				\n				\n				\n				\n				\n				\n				\n				\n				\n				\n				\n				\n				\n				\n				\n				Upcoming Events\n			\n				\n				\n				\n				\n				Check out the Council calendar to learn more about upcoming events. \n			\n			\n				\n				\n				\n				\n			\n				\n				\n				\n				\n				\n				\n				\n				\n				\n				\n				NationSwell’s events and experiences are designed to bring together diverse\, purpose-driven leaders and organizations for learning\, inspiration\, relationship-building\, and societal impact.
URL:https://events.nationswell.com/event/strategic-advisory-group-creating-equity-in-the-nonprofit-space/
CATEGORIES:Council Event,Roundtable
ORGANIZER;CN="NationSwell":MAILTO:events@nationswell.com
END:VEVENT
BEGIN:VEVENT
DTSTART;TZID=America/New_York:20220614T160000
DTEND;TZID=America/New_York:20220614T173000
DTSTAMP:20260419T190812
CREATED:20220605T211626Z
LAST-MODIFIED:20220723T201807Z
UID:986-1655222400-1655227800@events.nationswell.com
SUMMARY:Driving a Just Transition into the Low-Carbon Economy
DESCRIPTION:Driving a Just Transition into the Low-Carbon Economy\n			\n				\n				\n				\n				\n				Tuesday\, June 14\, 2022 @ 4:00 pm – 5:30 pm EDT \n			\n				\n				\n				\n				\n				\n			\n			\n				\n				\n				\n				\n				\n				\n				\n				\n				\n				\n			\n			\n				\n				\n				\n				\n			\n				\n				\n				\n				\n				\n				\n				\n				\n				\n				\n				About\n			\n				\n				\n				\n				\n				As the green economy expands rapidly\, we have a huge opportunity and an urgent responsibility to embed inclusive processes in the explosion of jobs that are supporting a transition into a low-carbon economy.  \nTogether with Autodesk Foundation\,The Ewing Marion Kauffman Foundation\, LinkedIn\, Microsoft\, and Workday\, NationSwell is building a cross-sector coalition of leaders and experts to create more equitable pathways to green jobs\, and nurture more inclusive networks by increasing the use of skills-based hiring for in-demand and high-growth roles. With a focus on underserved communities and areas most impacted by the shift “from brown to green energy\,” this work is aimed to support a just transition into a low-carbon economy. \n			\n			\n				\n				\n				\n				\n			\n				\n				\n				\n				\n				\n				\n				\n				\n				\n				\n				\n			\n				\n				\n				\n				\n				What We’ll Discuss\n			\n				\n				\n				\n				\n				The nuances of local needs means that placed-based\, community-led and industry-specific interventions should be favored over generic solutions\, and yet we know that there is work to be done to help create functioning ecosystems of stakeholders to support equitable pathways to fast-growing green jobs. In this discussion we will explore what is needed in order to support place-based coalitions that include funders\, green businesses\, unions & community-centered workforce development organizations. \n			\n			\n				\n				\n				\n				\n			\n				\n				\n			\n				\n				\n				\n				\n				\n				\n				\n				\n				\n				\n				\n				\n				\n				\n				\n				\n				\n				Resources\n			\n			\n				\n				\n				\n				\n			\n				\n				\n				\n				\n				\n				\n				\n				\n				\n				\n				01\n			\n				\n				\n				\n				\n				Future of Work Collaborative Memo\n			\n				Download\n			\n			\n				\n				\n				\n				\n				\n			\n				\n				\n				\n				\n			\n				\n				\n			\n				\n				\n				\n				\n				\n				\n				\n				\n				\n				\n				\n				\n				\n				\n				\n				\n				\n				In partnership with\n			\n			\n				\n				\n				\n				\n			\n				\n				\n				\n				\n				\n				\n				\n				\n				\n				\n				\n			\n				\n				\n				\n				\n				\n			\n				\n				\n				\n				\n				\n			\n				\n				\n				\n				\n				\n			\n				\n				\n				\n				\n				\n			\n			\n				\n				\n				\n				\n			\n				\n				\n				\n				\n				\n				\n				RSVP for Driving a just transition into the zero-carbon economy\n			\n				\n				\n				\n				\n				Upcoming Events\n			\n				\n				\n				\n				\n				Check out the NationSwell events calendar to learn more about upcoming events. \n			\n			\n				\n				\n				\n				\n			\n				\n				\n				\n				\n				\n				\n				\n				\n				\n				\n				NationSwell’s events and experiences are designed to bring together diverse\, purpose-driven leaders and organizations for learning\, inspiration\, relationship-building\, and societal impact.
URL:https://events.nationswell.com/event/driving-a-just-transition-into-the-low-carbon-economy/
CATEGORIES:Roundtable
ATTACH;FMTTYPE=image/jpeg:https://events.nationswell.com/wp-content/uploads/NS_Featured_DrivingAJustTransition.jpg
ORGANIZER;CN="NationSwell":MAILTO:events@nationswell.com
END:VEVENT
BEGIN:VEVENT
DTSTART;TZID=America/New_York:20220614T130000
DTEND;TZID=America/New_York:20220614T130000
DTSTAMP:20260419T190812
CREATED:20220608T133533Z
LAST-MODIFIED:20220707T214755Z
UID:1156-1655211600-1655211600@events.nationswell.com
SUMMARY:Measuring and Reporting on Impact
DESCRIPTION:Measuring and Reporting on Impact\n			\n				\n				\n				\n				\n				Tuesday\, June 14\, 2022 @ 1:00 pm EDT \n			\n			\n				\n				\n				\n				\n				\n				\n				\n				\n				\n				\n			\n			\n				\n				\n				\n				\n			\n				\n				\n				\n				\n				\n				\n				\n				\n				\n				\n				WHAT WE’LL DISCUSS\n			\n				\n				\n				\n				\n				As the investments\, attention and opportunity continues to swell around ESG\, important questions remain about how best to measure and report impact. \nDuring this NationSwell Leaders Roundtable\, we’ll surface the strategies\, approaches\, methodologies\, tools and resources that have been most helpful and effective for fellow members in measuring and reporting on impact. \nPlease come prepared to share any practices\, tools\, or methodologies that have been particularly effective for you in measuring and reporting on ESG-related impact.\n			\n			\n				\n				\n				\n				\n			\n				\n				\n				\n				\n				\n				\n				\n				\n				\n				\n				NationSwell’s events and experiences are designed to bring together diverse\, purpose-driven leaders and organizations for learning\, inspiration\, relationship-building\, and societal impact.
URL:https://events.nationswell.com/event/measuring-and-reporting-on-impact/
CATEGORIES:Institutional Members Only,Roundtable
ORGANIZER;CN="NationSwell":MAILTO:events@nationswell.com
END:VEVENT
BEGIN:VEVENT
DTSTART;TZID=America/New_York:20220608T150000
DTEND;TZID=America/New_York:20220608T160000
DTSTAMP:20260419T190812
CREATED:20220530T165913Z
LAST-MODIFIED:20220707T214635Z
UID:777-1654700400-1654704000@events.nationswell.com
SUMMARY:Strategic Advisory Group: Improving The Lives of Parents & Caregivers
DESCRIPTION:Strategic Advisory Group: Improving The Lives of Parents & Caregivers\n			\n				\n				\n				\n				\n				Wednesday\, June 8\, 2022 @ 3:00 pm – 4:00 pm EDT \n			\n				\n				\n				\n				\n				Explore membership \n			\n			\n				\n				\n				\n				\n				\n				\n				\n				\n				\n				\n			\n			\n				\n				\n				\n				\n			\n				\n				\n				\n				\n				\n				\n				\n				\n				\n				\n				About\n			\n				\n				\n				\n				\n				The work of caregivers is vital to our society\, yet the caregivers themselves are not always given the recognition and support they need and deserve. This can be especially true for single\, working caregivers. As the most recent wave of the pandemic recedes and more people return to the office\, leaving less time for employees’ caregiving duties\, it is critically important that employers tackle this problem head-on. \nIn this Strategic Advisory Workshop\, NationSwell Council members who are simultaneously both parents and leaders will ask for your feedback on actionable principles that workplaces can employ to improve the lives of their caregiving employees. This event is for Council members who are CEOs\, people managers\, or in HR\, as well as any caregivers in the NationSwell Council. \nNationSwell Strategic Advisory Groups provide a great way for members to support each other\, build community\, offer advice\, and collaborate. This specific event is produced by the NationSwell Council Single Parents Affinity Group. To learn more or join the group\, email Elyssa Dole.\n			\n			\n				\n				\n				\n				\n			\n				\n				\n			\n				\n				\n				\n				\n				\n				\n				\n				\n				\n				\n				\n				\n				\n				\n				\n				\n				\n				Presented by\n			\n			\n				\n				\n				\n				\n			\n				\n				\n				\n				\n				\n				\n				\n				\n				\n				\n				\n			\n			\n				\n				\n				\n				\n			\n				\n				\n			\n				\n				\n				\n				\n				\n				\n				\n				\n				\n				\n				\n				\n				\n				\n				\n				\n				\n				Upcoming Events\n			\n				\n				\n				\n				\n				Check out the Council calendar to learn more about upcoming events. \n			\n			\n				\n				\n				\n				\n			\n				\n				\n				\n				\n				\n				\n				\n				\n				\n				\n				NationSwell’s events and experiences are designed to bring together diverse\, purpose-driven leaders and organizations for learning\, inspiration\, relationship-building\, and societal impact.
URL:https://events.nationswell.com/event/strategic-advisory-group-improving-the-lives-of-parents-caregivers/
CATEGORIES:Council Event,Roundtable
ATTACH;FMTTYPE=image/jpeg:https://events.nationswell.com/wp-content/uploads/NS_Featured_ImprovingTheLivesParentsCaregivers.jpg
END:VEVENT
END:VCALENDAR