BEGIN:VCALENDAR
VERSION:2.0
PRODID:-//NationSwell: Events - ECPv6.15.20//NONSGML v1.0//EN
CALSCALE:GREGORIAN
METHOD:PUBLISH
X-ORIGINAL-URL:https://events.nationswell.com
X-WR-CALDESC:Events for NationSwell: Events
REFRESH-INTERVAL;VALUE=DURATION:PT1H
X-Robots-Tag:noindex
X-PUBLISHED-TTL:PT1H
BEGIN:VTIMEZONE
TZID:America/New_York
BEGIN:DAYLIGHT
TZOFFSETFROM:-0500
TZOFFSETTO:-0400
TZNAME:EDT
DTSTART:20250309T070000
END:DAYLIGHT
BEGIN:STANDARD
TZOFFSETFROM:-0400
TZOFFSETTO:-0500
TZNAME:EST
DTSTART:20251102T060000
END:STANDARD
BEGIN:DAYLIGHT
TZOFFSETFROM:-0500
TZOFFSETTO:-0400
TZNAME:EDT
DTSTART:20260308T070000
END:DAYLIGHT
BEGIN:STANDARD
TZOFFSETFROM:-0400
TZOFFSETTO:-0500
TZNAME:EST
DTSTART:20261101T060000
END:STANDARD
BEGIN:DAYLIGHT
TZOFFSETFROM:-0500
TZOFFSETTO:-0400
TZNAME:EDT
DTSTART:20270314T070000
END:DAYLIGHT
BEGIN:STANDARD
TZOFFSETFROM:-0400
TZOFFSETTO:-0500
TZNAME:EST
DTSTART:20271107T060000
END:STANDARD
END:VTIMEZONE
BEGIN:VEVENT
DTSTART;TZID=America/New_York:20260804T160000
DTEND;TZID=America/New_York:20260804T170000
DTSTAMP:20260425T134142
CREATED:20260422T210059Z
LAST-MODIFIED:20260424T183509Z
UID:8949-1785859200-1785862800@events.nationswell.com
SUMMARY:Resetting the Public Narrative Around U.S. Philanthropy
DESCRIPTION:Resetting the Public Narrative Around U.S. Philanthropy\n			\n				\n				\n				\n				\n				Virtual RoundtableTuesday\, August 4 20264:00pm – 5:00pm ET  \n			\n				I'm interested in joining this event. \n			\n			\n				\n				\n				\n				\n				\n				\n				\n				\n				\n				\n			\n			\n				\n				\n				\n				\n			\n				\n				\n				\n				\n				\n				\n				\n				\n				\n				\n				About\n			\n				\n				\n				\n				\n				Philanthropy in the U.S. is facing a shift in public perception. What was once broadly seen as a force for good is now\, in some circles\, framed as politicized\, opaque\, or even at odds with democratic values. These narratives are gaining traction—and they carry implications for how funders carry out their work. \nIn this roundtable\, NationSwell will bring together leaders across corporate philanthropy and social impact to examine what’s driving this shift and what can be done in response. We’ll explore how organizations can communicate more clearly\, operate more transparently\, and engage more credibly with stakeholders—without retreating from the work itself. \nJoin peers for a candid discussion on how to navigate scrutiny\, rebuild trust\, and help shape a more grounded and durable public narrative around philanthropy in the U.S. \nTo encourage open and candid discussion\, this event follows the Chatham House Rule – attendees may share insights from the conversation but cannot attribute statements to specific individuals or organizations. This ensures a trusted space for thoughtful dialogue and deeper insights. \n			\n			\n				\n				\n				\n				\n			\n				\n				\n			\n				\n				\n				\n				\n				\n				\n				\n				\n				\n				\n				\n				\n				\n				\n				\n				\n				\n				NationSwell’s events and experiences are designed to bring together diverse\, purpose-driven leaders and organizations for learning\, inspiration\, relationship-building\, and societal impact.
URL:https://events.nationswell.com/event/resetting-the-public-narrative-around-u-s-philanthropy/
CATEGORIES:Institutional Members Only,Legend,Pages,Roundtable
END:VEVENT
END:VCALENDAR